BEGIN:VCALENDAR
VERSION:2.0
PRODID:-//Kreiselternausschuss Neuwied - ECPv6.15.20//NONSGML v1.0//EN
CALSCALE:GREGORIAN
METHOD:PUBLISH
X-WR-CALNAME:Kreiselternausschuss Neuwied
X-ORIGINAL-URL:https://kea-nr.de
X-WR-CALDESC:Veranstaltungen für Kreiselternausschuss Neuwied
REFRESH-INTERVAL;VALUE=DURATION:PT1H
X-Robots-Tag:noindex
X-PUBLISHED-TTL:PT1H
BEGIN:VTIMEZONE
TZID:Europe/Helsinki
BEGIN:DAYLIGHT
TZOFFSETFROM:+0200
TZOFFSETTO:+0300
TZNAME:EEST
DTSTART:20230326T010000
END:DAYLIGHT
BEGIN:STANDARD
TZOFFSETFROM:+0300
TZOFFSETTO:+0200
TZNAME:EET
DTSTART:20231029T010000
END:STANDARD
BEGIN:DAYLIGHT
TZOFFSETFROM:+0200
TZOFFSETTO:+0300
TZNAME:EEST
DTSTART:20240331T010000
END:DAYLIGHT
BEGIN:STANDARD
TZOFFSETFROM:+0300
TZOFFSETTO:+0200
TZNAME:EET
DTSTART:20241027T010000
END:STANDARD
BEGIN:DAYLIGHT
TZOFFSETFROM:+0200
TZOFFSETTO:+0300
TZNAME:EEST
DTSTART:20250330T010000
END:DAYLIGHT
BEGIN:STANDARD
TZOFFSETFROM:+0300
TZOFFSETTO:+0200
TZNAME:EET
DTSTART:20251026T010000
END:STANDARD
END:VTIMEZONE
BEGIN:VEVENT
DTSTART;TZID=Europe/Helsinki:20240119T183000
DTEND;TZID=Europe/Helsinki:20240119T203000
DTSTAMP:20260425T230733
CREATED:20240101T121612Z
LAST-MODIFIED:20240102T130350Z
UID:3769-1705689000-1705696200@kea-nr.de
SUMMARY:KITA-Bedarfsplanung (Online-Schulung)
DESCRIPTION:Am Freitag\, den 19. Januar 2024\, findet um 18:30 Uhr ein hochkarätig besetztes Online-Seminar zum Thema „Kita-Bedarfsplanung“ statt. Hierzu laden gemeinsam der Landeselternausschuss der Kita in RLP (LEA)\, der Kreiselternausschuss  Neuwied (KEA NR) sowie zahlreiche weitere rheinland-pfälzische Kreis- und Stadtelternausschüsse ein. \nKommunale Kita-Bedarfsplanung soll vorhandene Kinderbetreuungsbedarfe von Eltern und Sorgeberechtigen einer Kommune erfassen. Sie dient zur Festlegung von Betreuungszeiten\, des Kita-Personalbedarfs und des Ausbaubedarfs von Kita-Plätzen. Auch für die Bedarfsplanung gilt\, dass das konstruktive Zusammenwirken aller Beteiligter der Erziehungsgemeinschaft zu passgenauen Betreuungsangeboten und effektiver Nutzung knapper Ressourcen führen kann. \nDoch wie funktioniert die Bedarfsplanung? Wie werden Betreuungsbedarfe ermittelt? Welche Möglichkeit der Beteiligung und Bedarfsmeldung gibt es\, um Betreuungsbedarfe von Eltern zu ermitteln und einen bedarfsgerechten Kita-Platz zu ermöglichen? Wie werden Betreuungszeiten und dazu benötigtes Erziehungspersonal in der Kita festgelegt? Welche Möglichkeiten haben Eltern\, wenn der Betreuungsbedarf eingeschränkt oder gar kein Platz zur Verfügung steht? Welche Aufgaben und Pflichten haben die Jugendämter und Träger? Macht die Bedarfsplanung in Zeiten von Personalmangel in Kitas überhaupt Sinn? Kann eine präzise Bedarfsermittlung unter Mitwirkung von Eltern helfen\, zusätzliche Betreuungsplätze zu schaffen? \nDiese und alle weiteren Fragen zum Thema beantworten LEA-Ehrenvorsitzender Andreas Winheller sowie Xenia Roth und Julia Burkard vom Bildungsministerium RLP bei der gemeinsamen Veranstaltung am 19.01.2024. \nAlle Eltern\, Sorgeberechtigten und Akteure der Kita-Landschaft in Rheinland-Pfalz sind herzlich eingeladen und können sich über das Formular auf der LEA-Homepage unter folgendem Link zu der Online-Veranstaltung anmelden: https://www.lea-rlp.de/anmeldung. \nDie Zugangsdaten werden mit der Anmeldebestätigung zugesandt.
URL:https://kea-nr.de/termine/kita-bedarfsplanung/
LOCATION:Online
END:VEVENT
END:VCALENDAR