BEGIN:VCALENDAR
VERSION:2.0
PRODID:-//Kreiselternausschuss Neuwied - ECPv6.15.20//NONSGML v1.0//EN
CALSCALE:GREGORIAN
METHOD:PUBLISH
X-WR-CALNAME:Kreiselternausschuss Neuwied
X-ORIGINAL-URL:https://kea-nr.de
X-WR-CALDESC:Veranstaltungen für Kreiselternausschuss Neuwied
REFRESH-INTERVAL;VALUE=DURATION:PT1H
X-Robots-Tag:noindex
X-PUBLISHED-TTL:PT1H
BEGIN:VTIMEZONE
TZID:Europe/Helsinki
BEGIN:DAYLIGHT
TZOFFSETFROM:+0200
TZOFFSETTO:+0300
TZNAME:EEST
DTSTART:20220327T010000
END:DAYLIGHT
BEGIN:STANDARD
TZOFFSETFROM:+0300
TZOFFSETTO:+0200
TZNAME:EET
DTSTART:20221030T010000
END:STANDARD
BEGIN:DAYLIGHT
TZOFFSETFROM:+0200
TZOFFSETTO:+0300
TZNAME:EEST
DTSTART:20230326T010000
END:DAYLIGHT
BEGIN:STANDARD
TZOFFSETFROM:+0300
TZOFFSETTO:+0200
TZNAME:EET
DTSTART:20231029T010000
END:STANDARD
BEGIN:DAYLIGHT
TZOFFSETFROM:+0200
TZOFFSETTO:+0300
TZNAME:EEST
DTSTART:20240331T010000
END:DAYLIGHT
BEGIN:STANDARD
TZOFFSETFROM:+0300
TZOFFSETTO:+0200
TZNAME:EET
DTSTART:20241027T010000
END:STANDARD
END:VTIMEZONE
BEGIN:VEVENT
DTSTART;TZID=Europe/Helsinki:20231122T200000
DTEND;TZID=Europe/Helsinki:20231122T220000
DTSTAMP:20260426T023256
CREATED:20231109T144759Z
LAST-MODIFIED:20231109T144759Z
UID:3718-1700683200-1700690400@kea-nr.de
SUMMARY:Digitale Informationsveranstaltung (Online-Schulung) am 22.11.2023\, 20:00 Uhr zum Thema "Grundlagen der Elternmitwirkung"
DESCRIPTION:Die Kreiselternausschüsse Bad Dürkheim (KEA DÜW)\, Vulkaneifel (KEA DAU)\, \nOnline-Schulung zu Grundlagen der Eltermitwirkung\nEifelkreis (KEA BIT-PRÜ) und Neuwied (KEA NR) laden für Mittwoch\, den 22. November 2023\, um 20:00 Uhr zu einem Informations- und Diskussionsabend ein. \nUnter dem Titel „GRUNDLAGEN DER ELTERNMITWIRKUNG in rheinland-pfälzischen Kitas“ wird Gordon Amuser (Stellvertretender Vorsitzender des Landeselternausschusses RLP) über die Rechte und Pflichten von Eltern in Kindertagesstätten informieren. \nDes Weiteren werden Themen wie Elternmitwirkung und Erziehungspartnerschaft\, Sonderregelungen für freie Träger und die verschiedenen Gremien\, von der Elternversammlung bis hin zu überörtlichen Elternvertretungen diskutiert. Fragen sind erwünscht! \nDer Informationsabend wird digital im Rahmen eines Online-Meetings mit dem Videokonferenz-Tool „Zoom“ durchgeführt. Eingeladen sind insbesondere Eltern\, Sorgeberechtigte und Elternvertretungen aus den genannten Landkreisen. Darüber hinaus sind auch andere Kita-Akteure sowie Interessierte anderer Kreise und Städte in Rheinland-Pfalz herzlich willkommen. \nDie Anmeldung ist kostenlos über die Webseiten der ausrichtenden Kreiselternausschüsse möglich . \n\nhttps://kea-duew.de/anmeldung\nhttps://kea-vulkaneifel.de/anmeldung\nhttps://kea-eifelkreis.de/anmeldung\nhttps://kea-nr.de/anmeldung\n\nDie Zugangsdaten zum Online-Meeting werden direkt nach der Anmeldung zugesandt
URL:https://kea-nr.de/termine/digitale-informationsveranstaltung-online-schulung-am-22-11-2023-2000-uhr-zum-thema-grundlagen-der-elternmitwirkung/
LOCATION:Online
END:VEVENT
END:VCALENDAR